BEGIN:VCALENDAR
VERSION:2.0
PRODID:-//Andrea Baker Mezzo Soprano - ECPv6.15.20//NONSGML v1.0//EN
CALSCALE:GREGORIAN
METHOD:PUBLISH
X-WR-CALNAME:Andrea Baker Mezzo Soprano
X-ORIGINAL-URL:https://andreabaker.org
X-WR-CALDESC:Events for Andrea Baker Mezzo Soprano
REFRESH-INTERVAL;VALUE=DURATION:PT1H
X-Robots-Tag:noindex
X-PUBLISHED-TTL:PT1H
BEGIN:VTIMEZONE
TZID:UTC
BEGIN:STANDARD
TZOFFSETFROM:+0000
TZOFFSETTO:+0000
TZNAME:UTC
DTSTART:20210101T000000
END:STANDARD
END:VTIMEZONE
BEGIN:VEVENT
DTSTART;TZID=UTC:20220505T193000
DTEND;TZID=UTC:20220505T193000
DTSTAMP:20260423T083740
CREATED:20240521T220100Z
LAST-MODIFIED:20260105T003238Z
UID:1666-1651779000-1651779000@andreabaker.org
SUMMARY:Ayanna Witter-Johnson & Guests
DESCRIPTION:Ayanna Witter-Johnson is a multi-talented singer/songwriter\, cellist\, pianist and composer. She has a phenomenal mastery for seamlessly crossing the boundaries of classical\, jazz\, reggae\, soul and R&B\, to imprint her unique musical signature collaborating with artists including Anoushka Shankar\, Nitin Sawhney\, Andrea Bocelli and Jools Holland. \nAs a composer\, Ayanna has been commissioned by the London Symphony Orchestra\, Güerzenich Orchester\, Ligeti Quartet and Kronos Quartet and for the first time this evening we will hear a unique programme of her classical works performed by a variety of friends and guest performers such as Jess Gillam\, Solem Quartet\, Ligeti Quartet\, Nitin Sawhney\, Andrea Baker\, Thea Sayer\, Héloïse Werner and Marianne Schofield. A British-born Jamaican\, her music is a body of work that represents\, celebrates and pays homage to her ancestral heritage\, culture and identity.
URL:https://andreabaker.org/event/ayanna-witter-johnson-guests/
LOCATION:Wigmore Hall\, 36 Wigmore Street\, London\, W1U 2BP\, United Kingdom
END:VEVENT
END:VCALENDAR