BEGIN:VCALENDAR
VERSION:2.0
PRODID:-//Andrea Baker Mezzo Soprano - ECPv6.15.20//NONSGML v1.0//EN
CALSCALE:GREGORIAN
METHOD:PUBLISH
X-WR-CALNAME:Andrea Baker Mezzo Soprano
X-ORIGINAL-URL:https://andreabaker.org
X-WR-CALDESC:Events for Andrea Baker Mezzo Soprano
REFRESH-INTERVAL;VALUE=DURATION:PT1H
X-Robots-Tag:noindex
X-PUBLISHED-TTL:PT1H
BEGIN:VTIMEZONE
TZID:UTC
BEGIN:STANDARD
TZOFFSETFROM:+0000
TZOFFSETTO:+0000
TZNAME:UTC
DTSTART:20180101T000000
END:STANDARD
END:VTIMEZONE
BEGIN:VEVENT
DTSTART;TZID=UTC:20190112T193000
DTEND;TZID=UTC:20190112T193000
DTSTAMP:20260423T114748
CREATED:20240521T220115Z
LAST-MODIFIED:20260105T003323Z
UID:1673-1547321400-1547321400@andreabaker.org
SUMMARY:Un Ballo In Maschera
DESCRIPTION:Role Debut as Ulrica \nHessisches Staatstheater Wiesbaden\, Germany \nAndrea Baker: Ulrica
URL:https://andreabaker.org/event/un-ballo-in-maschera-2/
LOCATION:Hessisches Staatstheater Wiesbaden\, Christian-Zais-Straße 3\, Wiesbaden\, Hesse\, 65189\, Germany
END:VEVENT
END:VCALENDAR